BEGIN:VCALENDAR
VERSION:2.0
PRODID:-//SANTO YOSEPH - &quot;Sekolah Kita&quot; - ECPv6.15.17//NONSGML v1.0//EN
CALSCALE:GREGORIAN
METHOD:PUBLISH
X-ORIGINAL-URL:https://sanyomm.com
X-WR-CALDESC:Events for SANTO YOSEPH - &quot;Sekolah Kita&quot;
REFRESH-INTERVAL;VALUE=DURATION:PT1H
X-Robots-Tag:noindex
X-PUBLISHED-TTL:PT1H
BEGIN:VTIMEZONE
TZID:Asia/Jakarta
BEGIN:STANDARD
TZOFFSETFROM:+0700
TZOFFSETTO:+0700
TZNAME:WIB
DTSTART:20110101T000000
END:STANDARD
END:VTIMEZONE
BEGIN:VEVENT
DTSTART;VALUE=DATE:20121225
DTEND;VALUE=DATE:20130104
DTSTAMP:20260420T000014
CREATED:20120716T115254Z
LAST-MODIFIED:20120716T115254Z
UID:1445-1356393600-1357257599@sanyomm.com
SUMMARY:(MM+HC+THB) Libur Natal dan Tahun Baru
DESCRIPTION:
URL:https://sanyomm.com/event/mmhcthb-libur-natal-dan-tahun-baru/
CATEGORIES:MM+HC+THB
END:VEVENT
BEGIN:VEVENT
DTSTART;VALUE=DATE:20121221
DTEND;VALUE=DATE:20121222
DTSTAMP:20260420T000014
CREATED:20120716T122856Z
LAST-MODIFIED:20120716T122856Z
UID:1465-1356048000-1356134399@sanyomm.com
SUMMARY:(MM-SD) Pembagian rapor
DESCRIPTION:
URL:https://sanyomm.com/event/mm-sd-pembagian-rapor/
CATEGORIES:MM-SD
END:VEVENT
BEGIN:VEVENT
DTSTART;VALUE=DATE:20121221
DTEND;VALUE=DATE:20121222
DTSTAMP:20260420T000014
CREATED:20120716T115131Z
LAST-MODIFIED:20120716T115131Z
UID:1444-1356048000-1356134399@sanyomm.com
SUMMARY:(MM-SMP) Pembagian rapor semester ke-1
DESCRIPTION:
URL:https://sanyomm.com/event/mm-smp-pembagian-rapor-semester-ke-1/
CATEGORIES:MM-SMP
END:VEVENT
BEGIN:VEVENT
DTSTART;VALUE=DATE:20121220
DTEND;VALUE=DATE:20121221
DTSTAMP:20260420T000014
CREATED:20120716T122817Z
LAST-MODIFIED:20120716T122817Z
UID:1464-1355961600-1356047999@sanyomm.com
SUMMARY:(MM-SD) Pendidikan seksuaitas
DESCRIPTION:
URL:https://sanyomm.com/event/mm-sd-pendidikan-seksuaitas/
CATEGORIES:MM-SD
END:VEVENT
BEGIN:VEVENT
DTSTART;VALUE=DATE:20121219
DTEND;VALUE=DATE:20121220
DTSTAMP:20260420T000014
CREATED:20120716T122738Z
LAST-MODIFIED:20120716T122738Z
UID:1463-1355875200-1355961599@sanyomm.com
SUMMARY:(MM-SD) Class meeting
DESCRIPTION:
URL:https://sanyomm.com/event/mm-sd-class-meeting/
CATEGORIES:MM-SD
END:VEVENT
BEGIN:VEVENT
DTSTART;VALUE=DATE:20121215
DTEND;VALUE=DATE:20121216
DTSTAMP:20260420T000014
CREATED:20120716T115007Z
LAST-MODIFIED:20120716T115043Z
UID:1443-1355529600-1355615999@sanyomm.com
SUMMARY:(MM-SMP) Tes masuk tahap ke-3
DESCRIPTION:
URL:https://sanyomm.com/event/mm-smp-class-meeting/
CATEGORIES:MM-SMP
END:VEVENT
BEGIN:VEVENT
DTSTART;VALUE=DATE:20121207
DTEND;VALUE=DATE:20121208
DTSTAMP:20260420T000014
CREATED:20120716T114907Z
LAST-MODIFIED:20120716T114907Z
UID:1442-1354838400-1354924799@sanyomm.com
SUMMARY:Ibadat guru dan karyawan
DESCRIPTION:
URL:https://sanyomm.com/event/ibadat-guru-dan-karyawan-3/
END:VEVENT
BEGIN:VEVENT
DTSTART;VALUE=DATE:20121203
DTEND;VALUE=DATE:20121208
DTSTAMP:20260420T000014
CREATED:20120716T122659Z
LAST-MODIFIED:20120716T122659Z
UID:1462-1354492800-1354924799@sanyomm.com
SUMMARY:(MM-SD) Ulangan semester I
DESCRIPTION:
URL:https://sanyomm.com/event/mm-sd-ulangan-semester-i/
CATEGORIES:MM-SD
END:VEVENT
BEGIN:VEVENT
DTSTART;VALUE=DATE:20121203
DTEND;VALUE=DATE:20121208
DTSTAMP:20260420T000014
CREATED:20120716T114656Z
LAST-MODIFIED:20120716T114830Z
UID:1441-1354492800-1354924799@sanyomm.com
SUMMARY:(MM-SMP) Ulangan akhir semester I
DESCRIPTION:
URL:https://sanyomm.com/event/mm-smp-ulangan-akhir-semester-i/
CATEGORIES:MM-SMP
END:VEVENT
BEGIN:VEVENT
DTSTART;VALUE=DATE:20121129
DTEND;VALUE=DATE:20121130
DTSTAMP:20260420T000014
CREATED:20120716T122604Z
LAST-MODIFIED:20120716T122604Z
UID:1461-1354147200-1354233599@sanyomm.com
SUMMARY:(MM-SD) Perayaan Ekaristi
DESCRIPTION:
URL:https://sanyomm.com/event/mm-sd-perayaan-ekaristi-4/
CATEGORIES:MM-SD
END:VEVENT
BEGIN:VEVENT
DTSTART;VALUE=DATE:20121126
DTEND;VALUE=DATE:20121127
DTSTAMP:20260420T000014
CREATED:20120716T122226Z
LAST-MODIFIED:20120716T122316Z
UID:1459-1353888000-1353974399@sanyomm.com
SUMMARY:(MM-SD) Upacara bendera
DESCRIPTION:
URL:https://sanyomm.com/event/mm-sd-upacara-bendera-8/
CATEGORIES:MM-SD
END:VEVENT
BEGIN:VEVENT
DTSTART;VALUE=DATE:20121126
DTEND;VALUE=DATE:20121127
DTSTAMP:20260420T000014
CREATED:20120716T113241Z
LAST-MODIFIED:20120716T113257Z
UID:1437-1353888000-1353974399@sanyomm.com
SUMMARY:(MM-SMP) Jalan sehat
DESCRIPTION:
URL:https://sanyomm.com/event/mm-smp-jalan-sehat-8/
CATEGORIES:MM-SMP
END:VEVENT
BEGIN:VEVENT
DTSTART;TZID=Asia/Jakarta:20121123T080000
DTEND;TZID=Asia/Jakarta:20121124T170059
DTSTAMP:20260420T000014
CREATED:20120716T112710Z
LAST-MODIFIED:20120716T112710Z
UID:1430-1353657600-1353776459@sanyomm.com
SUMMARY:(MM-SMP) Rekoleksi kelas VII
DESCRIPTION:Rekoleksi siswa kelas VII di Wisma Santo Yoseph
URL:https://sanyomm.com/event/mm-smp-rekoleksi-kelas-vii-3/
LOCATION:Unnamed Venue\, Wisma Santo Yoseph\, Cibubur\, Select a Country:
CATEGORIES:MM-SMP
END:VEVENT
BEGIN:VEVENT
DTSTART;VALUE=DATE:20121123
DTEND;VALUE=DATE:20121125
DTSTAMP:20260420T000014
CREATED:20120716T122518Z
LAST-MODIFIED:20120716T122518Z
UID:1460-1353628800-1353801599@sanyomm.com
SUMMARY:(MM-SD) Camping kelas III dan IV
DESCRIPTION:
URL:https://sanyomm.com/event/mm-sd-camping-kelas-iii-dan-iv/
CATEGORIES:MM-SD
END:VEVENT
BEGIN:VEVENT
DTSTART;VALUE=DATE:20121119
DTEND;VALUE=DATE:20121120
DTSTAMP:20260420T000014
CREATED:20120716T113132Z
LAST-MODIFIED:20120716T113200Z
UID:1436-1353283200-1353369599@sanyomm.com
SUMMARY:(MM-SMP) Upacara bendera
DESCRIPTION:
URL:https://sanyomm.com/event/mm-smp-upacara-bendera-5/
CATEGORIES:MM-SMP
END:VEVENT
BEGIN:VEVENT
DTSTART;TZID=Asia/Jakarta:20121116T080000
DTEND;TZID=Asia/Jakarta:20121116T170059
DTSTAMP:20260420T000014
CREATED:20120716T112814Z
LAST-MODIFIED:20120716T115539Z
UID:1433-1353052800-1353085259@sanyomm.com
SUMMARY:(Umum) Libur cuti bersama
DESCRIPTION:
URL:https://sanyomm.com/event/umum-libur-cuti-bersama/
CATEGORIES:Umum
END:VEVENT
BEGIN:VEVENT
DTSTART;VALUE=DATE:20121115
DTEND;VALUE=DATE:20121116
DTSTAMP:20260420T000014
CREATED:20120716T113823Z
LAST-MODIFIED:20120716T113823Z
UID:1438-1352937600-1353023999@sanyomm.com
SUMMARY:(Umum) Libur tahun baru Hijriyah
DESCRIPTION:
URL:https://sanyomm.com/event/umum-libur-tahun-baru-hijriyah-2/
CATEGORIES:Umum
END:VEVENT
BEGIN:VEVENT
DTSTART;VALUE=DATE:20121112
DTEND;VALUE=DATE:20121113
DTSTAMP:20260420T000014
CREATED:20120716T122145Z
LAST-MODIFIED:20120716T122145Z
UID:1458-1352678400-1352764799@sanyomm.com
SUMMARY:(MM-SD) Upacara bendera
DESCRIPTION:
URL:https://sanyomm.com/event/mm-sd-upacara-bendera-7/
CATEGORIES:MM-SD
END:VEVENT
BEGIN:VEVENT
DTSTART;VALUE=DATE:20121112
DTEND;VALUE=DATE:20121115
DTSTAMP:20260420T000014
CREATED:20120716T113033Z
LAST-MODIFIED:20120716T123207Z
UID:1435-1352678400-1352937599@sanyomm.com
SUMMARY:(MM-SMP) Retret kelas IX-1 dan IX-2
DESCRIPTION:Retret siswa kelas IX-1 dan IX-2
URL:https://sanyomm.com/event/mm-smp-retret-kelas-ix-1-dan-ix-2/
CATEGORIES:MM-SMP
END:VEVENT
BEGIN:VEVENT
DTSTART;TZID=Asia/Jakarta:20121109T080000
DTEND;TZID=Asia/Jakarta:20121110T170059
DTSTAMP:20260420T000014
CREATED:20120716T112611Z
LAST-MODIFIED:20120716T112611Z
UID:1428-1352448000-1352566859@sanyomm.com
SUMMARY:(MM-SMP) Rekoleksi kelas VII
DESCRIPTION:Rekoleksi siswa kelas VII di Wisma Santo Yoseph
URL:https://sanyomm.com/event/mm-smp-rekoleksi-kelas-vii-2/
LOCATION:Unnamed Venue\, Wisma Santo Yoseph\, Cibubur\, Indonesia
CATEGORIES:MM-SMP
END:VEVENT
BEGIN:VEVENT
DTSTART;VALUE=DATE:20121102
DTEND;VALUE=DATE:20121103
DTSTAMP:20260420T000014
CREATED:20120716T114047Z
LAST-MODIFIED:20120716T114047Z
UID:1439-1351814400-1351900799@sanyomm.com
SUMMARY:Ibadat guru dan karyawan
DESCRIPTION:
URL:https://sanyomm.com/event/ibadat-guru-dan-karyawan/
END:VEVENT
BEGIN:VEVENT
DTSTART;VALUE=DATE:20121102
DTEND;VALUE=DATE:20121104
DTSTAMP:20260420T000014
CREATED:20120716T112424Z
LAST-MODIFIED:20120716T112424Z
UID:1426-1351814400-1351987199@sanyomm.com
SUMMARY:(MM-SMP) Rekoleksi kelas VII
DESCRIPTION:Rekoleksi siswa kelas VII di Wisma Santo Yoseph
URL:https://sanyomm.com/event/mm-smp-rekoleksi-kelas-vii/
LOCATION:Unnamed Venue\, Wisma Santo Yoseph\, Cibubur\, Select a Country:
CATEGORIES:MM-SD
END:VEVENT
BEGIN:VEVENT
DTSTART;VALUE=DATE:20121031
DTEND;VALUE=DATE:20121101
DTSTAMP:20260420T000014
CREATED:20120716T122056Z
LAST-MODIFIED:20120716T122056Z
UID:1457-1351641600-1351727999@sanyomm.com
SUMMARY:(MM-SD) Perayaan Ekaristi
DESCRIPTION:
URL:https://sanyomm.com/event/mm-sd-perayaan-ekaristi-3/
CATEGORIES:MM-SD
END:VEVENT
BEGIN:VEVENT
DTSTART;VALUE=DATE:20121029
DTEND;VALUE=DATE:20121030
DTSTAMP:20260420T000014
CREATED:20120716T121910Z
LAST-MODIFIED:20120716T121910Z
UID:1455-1351468800-1351555199@sanyomm.com
SUMMARY:(MM-SD) Upacara bendera
DESCRIPTION:
URL:https://sanyomm.com/event/mm-sd-upacara-bendera-6/
CATEGORIES:MM-SD
END:VEVENT
BEGIN:VEVENT
DTSTART;VALUE=DATE:20121029
DTEND;VALUE=DATE:20121030
DTSTAMP:20260420T000014
CREATED:20120708T135452Z
LAST-MODIFIED:20120716T112128Z
UID:1417-1351468800-1351555199@sanyomm.com
SUMMARY:(MM-SMP) Upacara hari Sumpah Pemuda dan pelantikan pengurus OSIS
DESCRIPTION:Upacara dalam rangka hari Sumpah Pemuda dan pelntikan pengurus OSIS
URL:https://sanyomm.com/event/umum-libur-idhul-adha/
CATEGORIES:MM-SMP
END:VEVENT
BEGIN:VEVENT
DTSTART;VALUE=DATE:20121026
DTEND;VALUE=DATE:20121027
DTSTAMP:20260420T000014
CREATED:20120708T135905Z
LAST-MODIFIED:20120708T135905Z
UID:1419-1351209600-1351295999@sanyomm.com
SUMMARY:(Umum) Libur Idhul Adha
DESCRIPTION:Libur umum Idhul Adha
URL:https://sanyomm.com/event/umum-libur-idhul-adha-2/
CATEGORIES:Umum
END:VEVENT
BEGIN:VEVENT
DTSTART;VALUE=DATE:20121022
DTEND;VALUE=DATE:20121023
DTSTAMP:20260420T000014
CREATED:20120708T135201Z
LAST-MODIFIED:20120708T135201Z
UID:1414-1350864000-1350950399@sanyomm.com
SUMMARY:(MM-SMP) Upacara bendera
DESCRIPTION:Upacara bendera
URL:https://sanyomm.com/event/mm-smp-upacara-bendera-4/
CATEGORIES:MM-SMP
END:VEVENT
BEGIN:VEVENT
DTSTART;VALUE=DATE:20121020
DTEND;VALUE=DATE:20121021
DTSTAMP:20260420T000014
CREATED:20120708T135412Z
LAST-MODIFIED:20120708T135412Z
UID:1416-1350691200-1350777599@sanyomm.com
SUMMARY:(MM-SMP) Tes PMB tahap ke-I
DESCRIPTION:Tes masuk siswa baru tahap ke-I
URL:https://sanyomm.com/event/mm-smp-tes-pmb-tahap-ke-i/
CATEGORIES:MM-SMP
END:VEVENT
BEGIN:VEVENT
DTSTART;VALUE=DATE:20121019
DTEND;VALUE=DATE:20121020
DTSTAMP:20260420T000014
CREATED:20120708T134925Z
LAST-MODIFIED:20120708T134925Z
UID:1411-1350604800-1350691199@sanyomm.com
SUMMARY:(MM-SMP) Ibadat rosario
DESCRIPTION:Ibadat rosario
URL:https://sanyomm.com/event/mm-smp-ibadat-rosario-3/
CATEGORIES:MM-SMP
END:VEVENT
BEGIN:VEVENT
DTSTART;VALUE=DATE:20121015
DTEND;VALUE=DATE:20121016
DTSTAMP:20260420T000014
CREATED:20120716T121835Z
LAST-MODIFIED:20120716T121835Z
UID:1454-1350259200-1350345599@sanyomm.com
SUMMARY:(MM-SD) Upacara bendera
DESCRIPTION:
URL:https://sanyomm.com/event/mm-sd-upacara-bendera-5/
CATEGORIES:MM-SD
END:VEVENT
END:VCALENDAR