BEGIN:VCALENDAR
VERSION:2.0
PRODID:-//SANTO YOSEPH - &quot;Sekolah Kita&quot; - ECPv6.15.17//NONSGML v1.0//EN
CALSCALE:GREGORIAN
METHOD:PUBLISH
X-ORIGINAL-URL:https://sanyomm.com
X-WR-CALDESC:Events for SANTO YOSEPH - &quot;Sekolah Kita&quot;
REFRESH-INTERVAL;VALUE=DURATION:PT1H
X-Robots-Tag:noindex
X-PUBLISHED-TTL:PT1H
BEGIN:VTIMEZONE
TZID:Asia/Jakarta
BEGIN:STANDARD
TZOFFSETFROM:+0700
TZOFFSETTO:+0700
TZNAME:WIB
DTSTART:20110101T000000
END:STANDARD
END:VTIMEZONE
BEGIN:VEVENT
DTSTART;VALUE=DATE:20120917
DTEND;VALUE=DATE:20120918
DTSTAMP:20260421T105928
CREATED:20120708T131034Z
LAST-MODIFIED:20120708T131034Z
UID:1388-1347840000-1347926399@sanyomm.com
SUMMARY:(MM-SMP) Jalan sehat
DESCRIPTION:Jalan sehat
URL:https://sanyomm.com/event/mm-smp-jalan-sehat-5/
LOCATION:Unnamed Venue\, Metland Menteng\, Jakarta Timur\, DKI Jakarta\, 13960\, Indonesia
CATEGORIES:MM-SMP
END:VEVENT
BEGIN:VEVENT
DTSTART;VALUE=DATE:20120910
DTEND;VALUE=DATE:20120911
DTSTAMP:20260421T105928
CREATED:20120716T120330Z
LAST-MODIFIED:20120716T120330Z
UID:1448-1347235200-1347321599@sanyomm.com
SUMMARY:(MM-SD) Upacara bendera
DESCRIPTION:
URL:https://sanyomm.com/event/mm-sd-upacara-bendera-2/
LOCATION:DKI Jakarta
CATEGORIES:MM-SD
END:VEVENT
BEGIN:VEVENT
DTSTART;VALUE=DATE:20120910
DTEND;VALUE=DATE:20120911
DTSTAMP:20260421T105928
CREATED:20120708T132632Z
LAST-MODIFIED:20120708T132632Z
UID:1399-1347235200-1347321599@sanyomm.com
SUMMARY:(MM-SMP) Upacara bendera
DESCRIPTION:Upacara bendera
URL:https://sanyomm.com/event/mm-smp-upacara-bendera-2/
LOCATION:Unnamed Venue\, Metland Menteng\, Jakarta Timur\, DKI Jakarta\, 13960\, Indonesia
CATEGORIES:MM-SMP
END:VEVENT
BEGIN:VEVENT
DTSTART;VALUE=DATE:20120907
DTEND;VALUE=DATE:20120908
DTSTAMP:20260421T105928
CREATED:20120708T131652Z
LAST-MODIFIED:20120716T114215Z
UID:1391-1346976000-1347062399@sanyomm.com
SUMMARY:Ibadat guru dan karyawan
DESCRIPTION:Ibadat guru dan karyawan
URL:https://sanyomm.com/event/mm-smp-ibadat-guru/
LOCATION:Metland Menteng\, Jakarta Timur\, DKI Jakarta\, 13960\, Indonesia
END:VEVENT
BEGIN:VEVENT
DTSTART;VALUE=DATE:20120903
DTEND;VALUE=DATE:20120904
DTSTAMP:20260421T105928
CREATED:20120716T120246Z
LAST-MODIFIED:20120716T120246Z
UID:1447-1346630400-1346716799@sanyomm.com
SUMMARY:(MM-SD) Upacara bendera
DESCRIPTION:
URL:https://sanyomm.com/event/mm-sd-upacara-bendera/
LOCATION:DKI Jakarta
CATEGORIES:MM-SD
END:VEVENT
BEGIN:VEVENT
DTSTART;VALUE=DATE:20120903
DTEND;VALUE=DATE:20120904
DTSTAMP:20260421T105928
CREATED:20120708T130932Z
LAST-MODIFIED:20120708T130932Z
UID:1386-1346630400-1346716799@sanyomm.com
SUMMARY:(MM-SMP) Jalan sehat
DESCRIPTION:Jalan sehat
URL:https://sanyomm.com/event/mm-smp-jalan-sehat-4/
LOCATION:Unnamed Venue\, Metland Menteng\, Jakarta Timur\, DKI Jakarta\, 13960\, Indonesia
CATEGORIES:MM-SMP
END:VEVENT
BEGIN:VEVENT
DTSTART;VALUE=DATE:20120830
DTEND;VALUE=DATE:20120831
DTSTAMP:20260421T105928
CREATED:20120708T125510Z
LAST-MODIFIED:20120708T125655Z
UID:1384-1346284800-1346371199@sanyomm.com
SUMMARY:(MM-SMP) Test IQ
DESCRIPTION:Test IQ siswa kelas VII.
URL:https://sanyomm.com/event/mm-smp-test-iq/
LOCATION:Metland Menteng\, Jakarta Timur\, DKI Jakarta\, 13960\, Indonesia
CATEGORIES:MM-SMP
END:VEVENT
BEGIN:VEVENT
DTSTART;VALUE=DATE:20120827
DTEND;VALUE=DATE:20120828
DTSTAMP:20260421T105928
CREATED:20120708T125002Z
LAST-MODIFIED:20120708T125729Z
UID:1377-1346025600-1346111999@sanyomm.com
SUMMARY:(MM-SMP) Jalan sehat
DESCRIPTION:Jalan sehat
URL:https://sanyomm.com/event/mm-smp-jalan-sehat-3/
LOCATION:Metland Menteng\, Jakarta Timur\, DKI Jakarta\, 13960\, Indonesia
CATEGORIES:MM-SMP
END:VEVENT
BEGIN:VEVENT
DTSTART;VALUE=DATE:20120820
DTEND;VALUE=DATE:20120825
DTSTAMP:20260421T105928
CREATED:20120708T125404Z
LAST-MODIFIED:20120708T131440Z
UID:1383-1345420800-1345852799@sanyomm.com
SUMMARY:(MM+HC+THB) Libur Idhul Fitri
DESCRIPTION:Libur dalam ranga Idhul Fitri.
URL:https://sanyomm.com/event/mmhcthb-libur-idhul-fitri/
LOCATION:DKI Jakarta
CATEGORIES:MM+HC+THB
END:VEVENT
BEGIN:VEVENT
DTSTART;VALUE=DATE:20120813
DTEND;VALUE=DATE:20120814
DTSTAMP:20260421T105928
CREATED:20120708T125107Z
LAST-MODIFIED:20120708T125805Z
UID:1379-1344816000-1344902399@sanyomm.com
SUMMARY:(MM-SMP) Upacara kelas
DESCRIPTION:Upacara kelas.
URL:https://sanyomm.com/event/mm-smp-upacara-kelas/
LOCATION:Metland Menteng\, Jakarta Timur\, DKI Jakarta\, 13960\, Indonesia
CATEGORIES:MM-SMP
END:VEVENT
BEGIN:VEVENT
DTSTART;VALUE=DATE:20120806
DTEND;VALUE=DATE:20120807
DTSTAMP:20260421T105928
CREATED:20120708T124844Z
LAST-MODIFIED:20120708T124844Z
UID:1375-1344211200-1344297599@sanyomm.com
SUMMARY:(MM-SMP) Jalan sehat
DESCRIPTION:Jalan sehat SMP
URL:https://sanyomm.com/event/mm-smp-jalan-sehat-2/
LOCATION:Unnamed Venue\, Metland Menteng\, Jakarta Timur\, DKI Jakarta\, 13960\, Indonesia
CATEGORIES:MM-SMP
END:VEVENT
BEGIN:VEVENT
DTSTART;VALUE=DATE:20120803
DTEND;VALUE=DATE:20120804
DTSTAMP:20260421T105928
CREATED:20120716T114415Z
LAST-MODIFIED:20120716T114415Z
UID:1440-1343952000-1344038399@sanyomm.com
SUMMARY:Ibadat guru dan karyawan
DESCRIPTION:
URL:https://sanyomm.com/event/ibadat-guru-dan-karyawan-2/
LOCATION:DKI Jakarta
END:VEVENT
BEGIN:VEVENT
DTSTART;VALUE=DATE:20120728
DTEND;VALUE=DATE:20120729
DTSTAMP:20260421T105928
CREATED:20120708T121256Z
LAST-MODIFIED:20120708T121256Z
UID:1370-1343433600-1343519999@sanyomm.com
SUMMARY:(MM-SMP) Pertemuan orangtua siswa
DESCRIPTION:Pertemuan orangtua siswa
URL:https://sanyomm.com/event/mm-smp-pertemuan-orangtua-siswa/
LOCATION:Unnamed Venue\, Metland Menteng\, Jakarta Timur\, DKI Jakarta\, 13960\, Indonesia
CATEGORIES:MM-SMP
END:VEVENT
BEGIN:VEVENT
DTSTART;VALUE=DATE:20120727
DTEND;VALUE=DATE:20120728
DTSTAMP:20260421T105928
CREATED:20120708T123732Z
LAST-MODIFIED:20120708T124159Z
UID:1373-1343347200-1343433599@sanyomm.com
SUMMARY:(MM+THB) Perayaan Ekaristi awal tahun ajaran 2012/2013
DESCRIPTION:Perayaan Ekaristi dalam rangka tahun ajaran 2012/2013. Siswa sekolah Santo Yoseph MM dan THB.
URL:https://sanyomm.com/event/perayaan-ekaristi-awal-tahun-ajaran-20122013/
LOCATION:DKI Jakarta
CATEGORIES:MM+THB
END:VEVENT
BEGIN:VEVENT
DTSTART;VALUE=DATE:20120723
DTEND;VALUE=DATE:20120724
DTSTAMP:20260421T105928
CREATED:20120708T121141Z
LAST-MODIFIED:20120708T121141Z
UID:1368-1343001600-1343087999@sanyomm.com
SUMMARY:(MM-SMP) Jalan sehat
DESCRIPTION:Jalan sehat.
URL:https://sanyomm.com/event/mm-smp-jalan-sehat/
LOCATION:Unnamed Venue\, Metland Menteng\, Jakarta Timur\, DKI Jakarta\, 13960\, Indonesia
CATEGORIES:MM-SMP
END:VEVENT
BEGIN:VEVENT
DTSTART;VALUE=DATE:20120719
DTEND;VALUE=DATE:20120722
DTSTAMP:20260421T105928
CREATED:20120708T121033Z
LAST-MODIFIED:20120708T124334Z
UID:1365-1342656000-1342915199@sanyomm.com
SUMMARY:(MM+HC+THB) Retret guru dan karyawan
DESCRIPTION:Retret guru dan karyawan Yayasan Santo Yoseph Jaya. Siswa libur awal Puasa.
URL:https://sanyomm.com/event/retret-guru-dan-karyawan/
LOCATION:Pratista\, Cimahi\, Bandung\, Indonesia
CATEGORIES:MM+HC+THB
END:VEVENT
BEGIN:VEVENT
DTSTART;VALUE=DATE:20120717
DTEND;VALUE=DATE:20120718
DTSTAMP:20260421T105928
CREATED:20120708T125224Z
LAST-MODIFIED:20120708T125253Z
UID:1381-1342483200-1342569599@sanyomm.com
SUMMARY:(MM+THB) Upacara bendera
DESCRIPTION:Upacara dalam rangka HUT RI. Seluruh siswa sekolah Santo Yoseph MM dan THB.
URL:https://sanyomm.com/event/mmthb-upacara-bendera/
LOCATION:Metland Menteng\, Jakarta Timur\, DKI Jakarta\, 13960\, Indonesia
CATEGORIES:MM+THB
END:VEVENT
BEGIN:VEVENT
DTSTART;VALUE=DATE:20120716
DTEND;VALUE=DATE:20120719
DTSTAMP:20260421T105928
CREATED:20120708T120816Z
LAST-MODIFIED:20120708T120816Z
UID:1363-1342396800-1342655999@sanyomm.com
SUMMARY:(MM-SMP) Masa Orientasi Siswa Baru
DESCRIPTION:Masa orientasi siswa baru kelas VII
URL:https://sanyomm.com/event/mm-smp-masa-orientasi-siswa-baru/
LOCATION:Unnamed Venue\, Metland Menteng\, Jakarta Timur\, DKI Jakarta\, 13960\, Indonesia
CATEGORIES:MM-SMP
END:VEVENT
BEGIN:VEVENT
DTSTART;VALUE=DATE:20120716
DTEND;VALUE=DATE:20120717
DTSTAMP:20260421T105928
CREATED:20120707T180709Z
LAST-MODIFIED:20120707T181616Z
UID:1346-1342396800-1342483199@sanyomm.com
SUMMARY:(HC-SD) Awal tahun ajaran 2012/2013
DESCRIPTION:Hari pertama masuk sekolah tahun ajaran 2012/2013
URL:https://sanyomm.com/event/hc-sd-awal-tahun-ajaran-20122013/
LOCATION:Unnamed Venue\, Harvest City\, Cileungsi\, Bogor\, Indonesia
CATEGORIES:HC-SD
END:VEVENT
BEGIN:VEVENT
DTSTART;VALUE=DATE:20120716
DTEND;VALUE=DATE:20120717
DTSTAMP:20260421T105928
CREATED:20120707T180543Z
LAST-MODIFIED:20120707T182121Z
UID:1345-1342396800-1342483199@sanyomm.com
SUMMARY:(HC-KBTK) Awal tahun ajaran 2012/2013
DESCRIPTION:Hari pertama masuk sekolah tahun ajaran 2012/2013.
URL:https://sanyomm.com/event/hc-kbtk-awal-tahun-ajaran-20122013/
LOCATION:Harvest City\, Cileungsi\, Bogor\, Indonesia
CATEGORIES:HC-KBTK
END:VEVENT
BEGIN:VEVENT
DTSTART;VALUE=DATE:20120716
DTEND;VALUE=DATE:20120717
DTSTAMP:20260421T105928
CREATED:20120707T180448Z
LAST-MODIFIED:20120707T181401Z
UID:1344-1342396800-1342483199@sanyomm.com
SUMMARY:(THB-KBTK) Awal masuk sekolah tahun ajaran 2012/2013
DESCRIPTION:Hari pertama masuk sekolah tahun ajaran 2012/2013
URL:https://sanyomm.com/event/thb-kbtk-awal-masuk-sekolah-tahun-ajaran-20122013/
LOCATION:Unnamed Venue\, Taman Harapan Baru\, Bekasi\, Indonesia
CATEGORIES:THB-KBTK
END:VEVENT
BEGIN:VEVENT
DTSTART;VALUE=DATE:20120716
DTEND;VALUE=DATE:20120717
DTSTAMP:20260421T105928
CREATED:20120707T180341Z
LAST-MODIFIED:20120707T182036Z
UID:1343-1342396800-1342483199@sanyomm.com
SUMMARY:(MM-SMA) Awal tahun ajaran 2012/2013
DESCRIPTION:Hari pertama masuk sekolah tahun ajaran 2012/2013
URL:https://sanyomm.com/event/mm-sma-awal-tahun-ajaran-20122013/
LOCATION:Metland Menteng\, Jakarta Timur\, DKI Jakarta\, 13960\, Indonesia
CATEGORIES:MM-SMA
END:VEVENT
BEGIN:VEVENT
DTSTART;VALUE=DATE:20120716
DTEND;VALUE=DATE:20120717
DTSTAMP:20260421T105928
CREATED:20120707T175717Z
LAST-MODIFIED:20120707T181958Z
UID:1342-1342396800-1342483199@sanyomm.com
SUMMARY:(MM-SMP) Awal tahun ajaran 2012/2013
DESCRIPTION:Hari pertama masuk sekolah tahun ajaran 2012/2013
URL:https://sanyomm.com/event/mm-smp-awal-tahun-ajaran-20122013/
LOCATION:Metland Menteng\, Jakarta Timur\, DKI Jakarta\, 13960\, Indonesia
CATEGORIES:MM-SMP
END:VEVENT
BEGIN:VEVENT
DTSTART;VALUE=DATE:20120716
DTEND;VALUE=DATE:20120717
DTSTAMP:20260421T105928
CREATED:20120707T172413Z
LAST-MODIFIED:20120707T181912Z
UID:1339-1342396800-1342483199@sanyomm.com
SUMMARY:(MM-SD) Awal tahun ajaran 2012/2013
DESCRIPTION:Hari pertama masuk sekolah tahun ajaran 2012/2013
URL:https://sanyomm.com/event/awal-tahun-ajaran-20122013/
LOCATION:Metland Menteng\, Jakarta Timur\, DKI Jakarta\, 13960\, Indonesia
CATEGORIES:MM-SD
END:VEVENT
BEGIN:VEVENT
DTSTART;VALUE=DATE:20120716
DTEND;VALUE=DATE:20120717
DTSTAMP:20260421T105928
CREATED:20120707T163521Z
LAST-MODIFIED:20120707T181823Z
UID:1335-1342396800-1342483199@sanyomm.com
SUMMARY:(MM-KBTK) Awal tahun ajaran 2012/2013
DESCRIPTION:Hari pertama masuk sekolah untuk tahun ajaran 2012/2013 \n 
URL:https://sanyomm.com/event/mm-kbtk/
LOCATION:Metland Menteng\, Jakarta Timur\, DKI Jakarta\, 13960\, Indonesia
CATEGORIES:MM-KBTK
END:VEVENT
BEGIN:VEVENT
DTSTART;TZID=Asia/Jakarta:20120715T170000
DTEND;TZID=Asia/Jakarta:20120715T170059
DTSTAMP:20260421T105928
CREATED:20120707T183426Z
LAST-MODIFIED:20120707T183759Z
UID:1353-1342371600-1342371659@sanyomm.com
SUMMARY:(MM-SMA) Dua siswa berangkat ke Australia
DESCRIPTION:Dua siswa SMA akan berangkat ke Melbourne dalam rangka realisasi kerjasama sister school antara kedua sekolah. Mereka akan berada disana selama 4 minggu. \nDua Siswa SMA Santo Yoseph ke Australia
URL:https://sanyomm.com/event/mm-sma-dua-siswa-berangkat-ke-australia/
LOCATION:DKI Jakarta
CATEGORIES:MM-SMA
END:VEVENT
BEGIN:VEVENT
DTSTART;VALUE=DATE:20120712
DTEND;VALUE=DATE:20120715
DTSTAMP:20260421T105928
CREATED:20120707T182413Z
LAST-MODIFIED:20120707T182413Z
UID:1352-1342051200-1342310399@sanyomm.com
SUMMARY:(MM-SMA) Masa Orientasi Siswa Baru
DESCRIPTION:Masa Orientasi Siswa Baru SMA Santo Yoseph berlangsung di komplek sekolah (12/7) dan di Mekarsari (13-14/7).
URL:https://sanyomm.com/event/mm-sma-masa-orientasi-siswa-baru/
LOCATION:DKI Jakarta
CATEGORIES:MM-SMA
END:VEVENT
BEGIN:VEVENT
DTSTART;VALUE=DATE:20120711
DTEND;VALUE=DATE:20120712
DTSTAMP:20260421T105928
CREATED:20120708T123138Z
LAST-MODIFIED:20120708T123138Z
UID:1372-1341964800-1342051199@sanyomm.com
SUMMARY:Pilkada DKI Jakarta
DESCRIPTION:Pemilihan Gubernur DKI Jakarta\, libur.
URL:https://sanyomm.com/event/pilkada-dki-jakarta/
LOCATION:DKI Jakarta
CATEGORIES:Umum
END:VEVENT
END:VCALENDAR