BEGIN:VCALENDAR
VERSION:2.0
PRODID:-//SANTO YOSEPH - &quot;Sekolah Kita&quot; - ECPv6.15.17//NONSGML v1.0//EN
CALSCALE:GREGORIAN
METHOD:PUBLISH
X-WR-CALNAME:SANTO YOSEPH - &quot;Sekolah Kita&quot;
X-ORIGINAL-URL:https://sanyomm.com
X-WR-CALDESC:Events for SANTO YOSEPH - &quot;Sekolah Kita&quot;
REFRESH-INTERVAL;VALUE=DURATION:PT1H
X-Robots-Tag:noindex
X-PUBLISHED-TTL:PT1H
BEGIN:VTIMEZONE
TZID:Asia/Jakarta
BEGIN:STANDARD
TZOFFSETFROM:+0700
TZOFFSETTO:+0700
TZNAME:WIB
DTSTART:20110101T000000
END:STANDARD
END:VTIMEZONE
BEGIN:VEVENT
DTSTART;VALUE=DATE:20120716
DTEND;VALUE=DATE:20120717
DTSTAMP:20260421T143013
CREATED:20120707T180448Z
LAST-MODIFIED:20120707T181401Z
UID:1344-1342396800-1342483199@sanyomm.com
SUMMARY:(THB-KBTK) Awal masuk sekolah tahun ajaran 2012/2013
DESCRIPTION:Hari pertama masuk sekolah tahun ajaran 2012/2013
URL:https://sanyomm.com/event/thb-kbtk-awal-masuk-sekolah-tahun-ajaran-20122013/
LOCATION:Unnamed Venue\, Taman Harapan Baru\, Bekasi\, Indonesia
CATEGORIES:THB-KBTK
END:VEVENT
BEGIN:VEVENT
DTSTART;VALUE=DATE:20120716
DTEND;VALUE=DATE:20120717
DTSTAMP:20260421T143013
CREATED:20120707T180341Z
LAST-MODIFIED:20120707T182036Z
UID:1343-1342396800-1342483199@sanyomm.com
SUMMARY:(MM-SMA) Awal tahun ajaran 2012/2013
DESCRIPTION:Hari pertama masuk sekolah tahun ajaran 2012/2013
URL:https://sanyomm.com/event/mm-sma-awal-tahun-ajaran-20122013/
LOCATION:Metland Menteng\, Jakarta Timur\, DKI Jakarta\, 13960\, Indonesia
CATEGORIES:MM-SMA
END:VEVENT
BEGIN:VEVENT
DTSTART;VALUE=DATE:20120716
DTEND;VALUE=DATE:20120717
DTSTAMP:20260421T143013
CREATED:20120707T175717Z
LAST-MODIFIED:20120707T181958Z
UID:1342-1342396800-1342483199@sanyomm.com
SUMMARY:(MM-SMP) Awal tahun ajaran 2012/2013
DESCRIPTION:Hari pertama masuk sekolah tahun ajaran 2012/2013
URL:https://sanyomm.com/event/mm-smp-awal-tahun-ajaran-20122013/
LOCATION:Metland Menteng\, Jakarta Timur\, DKI Jakarta\, 13960\, Indonesia
CATEGORIES:MM-SMP
END:VEVENT
BEGIN:VEVENT
DTSTART;VALUE=DATE:20120716
DTEND;VALUE=DATE:20120717
DTSTAMP:20260421T143013
CREATED:20120707T172413Z
LAST-MODIFIED:20120707T181912Z
UID:1339-1342396800-1342483199@sanyomm.com
SUMMARY:(MM-SD) Awal tahun ajaran 2012/2013
DESCRIPTION:Hari pertama masuk sekolah tahun ajaran 2012/2013
URL:https://sanyomm.com/event/awal-tahun-ajaran-20122013/
LOCATION:Metland Menteng\, Jakarta Timur\, DKI Jakarta\, 13960\, Indonesia
CATEGORIES:MM-SD
END:VEVENT
BEGIN:VEVENT
DTSTART;VALUE=DATE:20120716
DTEND;VALUE=DATE:20120717
DTSTAMP:20260421T143013
CREATED:20120707T163521Z
LAST-MODIFIED:20120707T181823Z
UID:1335-1342396800-1342483199@sanyomm.com
SUMMARY:(MM-KBTK) Awal tahun ajaran 2012/2013
DESCRIPTION:Hari pertama masuk sekolah untuk tahun ajaran 2012/2013 \n 
URL:https://sanyomm.com/event/mm-kbtk/
LOCATION:Metland Menteng\, Jakarta Timur\, DKI Jakarta\, 13960\, Indonesia
CATEGORIES:MM-KBTK
END:VEVENT
BEGIN:VEVENT
DTSTART;TZID=Asia/Jakarta:20120715T170000
DTEND;TZID=Asia/Jakarta:20120715T170059
DTSTAMP:20260421T143013
CREATED:20120707T183426Z
LAST-MODIFIED:20120707T183759Z
UID:1353-1342371600-1342371659@sanyomm.com
SUMMARY:(MM-SMA) Dua siswa berangkat ke Australia
DESCRIPTION:Dua siswa SMA akan berangkat ke Melbourne dalam rangka realisasi kerjasama sister school antara kedua sekolah. Mereka akan berada disana selama 4 minggu. \nDua Siswa SMA Santo Yoseph ke Australia
URL:https://sanyomm.com/event/mm-sma-dua-siswa-berangkat-ke-australia/
CATEGORIES:MM-SMA
END:VEVENT
BEGIN:VEVENT
DTSTART;VALUE=DATE:20120712
DTEND;VALUE=DATE:20120715
DTSTAMP:20260421T143013
CREATED:20120707T182413Z
LAST-MODIFIED:20120707T182413Z
UID:1352-1342051200-1342310399@sanyomm.com
SUMMARY:(MM-SMA) Masa Orientasi Siswa Baru
DESCRIPTION:Masa Orientasi Siswa Baru SMA Santo Yoseph berlangsung di komplek sekolah (12/7) dan di Mekarsari (13-14/7).
URL:https://sanyomm.com/event/mm-sma-masa-orientasi-siswa-baru/
CATEGORIES:MM-SMA
END:VEVENT
BEGIN:VEVENT
DTSTART;VALUE=DATE:20120711
DTEND;VALUE=DATE:20120712
DTSTAMP:20260421T143013
CREATED:20120708T123138Z
LAST-MODIFIED:20120708T123138Z
UID:1372-1341964800-1342051199@sanyomm.com
SUMMARY:Pilkada DKI Jakarta
DESCRIPTION:Pemilihan Gubernur DKI Jakarta\, libur.
URL:https://sanyomm.com/event/pilkada-dki-jakarta/
CATEGORIES:Umum
END:VEVENT
END:VCALENDAR